BEGIN:VCALENDAR
VERSION:2.0
PRODID:-//Tukios.com/
BEGIN:VEVENT
UID:c6475951-98a4-430e-8789-0382b5d4130f@www.mcclurefuneralservice.net
DTSTAMP:20260422T060426Z
DTSTART:20260425T180000Z
DTEND:20260425T190000Z
SUMMARY:Celebration of Life
DESCRIPTION:
URL:https://www.mcclurefuneralservice.net/obituaries/ethel-williamson
LOCATION: 1030 S Main St  Graham NC 27253
GEO:36.0500433;-79.3976636
END:VEVENT
END:VCALENDAR