BEGIN:VCALENDAR
VERSION:2.0
PRODID:-//Tukios.com/
BEGIN:VEVENT
UID:0679f858-0bd8-43cc-9784-79da4acdf1b9@www.mcclurefuneralservice.net
DTSTAMP:20260422T005821Z
DTSTART:20260426T210000Z
DTEND:20260426T220000Z
SUMMARY:Celebration of Life
DESCRIPTION:
URL:https://www.mcclurefuneralservice.net/obituaries/norman-davis
LOCATION: 1308 South Third Street  Mebane NC 27302
GEO:36.0761466;-79.2922326
END:VEVENT
END:VCALENDAR